BEGIN:VCALENDAR
VERSION:2.0
PRODID:-//Les Amis de Bousval - ECPv6.15.20//NONSGML v1.0//EN
CALSCALE:GREGORIAN
METHOD:PUBLISH
X-WR-CALNAME:Les Amis de Bousval
X-ORIGINAL-URL:https://www.lebousvalien.be
X-WR-CALDESC:Évènements pour Les Amis de Bousval
REFRESH-INTERVAL;VALUE=DURATION:PT1H
X-Robots-Tag:noindex
X-PUBLISHED-TTL:PT1H
BEGIN:VTIMEZONE
TZID:Europe/Brussels
BEGIN:DAYLIGHT
TZOFFSETFROM:+0100
TZOFFSETTO:+0200
TZNAME:CEST
DTSTART:20230326T010000
END:DAYLIGHT
BEGIN:STANDARD
TZOFFSETFROM:+0200
TZOFFSETTO:+0100
TZNAME:CET
DTSTART:20231029T010000
END:STANDARD
BEGIN:DAYLIGHT
TZOFFSETFROM:+0100
TZOFFSETTO:+0200
TZNAME:CEST
DTSTART:20240331T010000
END:DAYLIGHT
BEGIN:STANDARD
TZOFFSETFROM:+0200
TZOFFSETTO:+0100
TZNAME:CET
DTSTART:20241027T010000
END:STANDARD
BEGIN:DAYLIGHT
TZOFFSETFROM:+0100
TZOFFSETTO:+0200
TZNAME:CEST
DTSTART:20250330T010000
END:DAYLIGHT
BEGIN:STANDARD
TZOFFSETFROM:+0200
TZOFFSETTO:+0100
TZNAME:CET
DTSTART:20251026T010000
END:STANDARD
END:VTIMEZONE
BEGIN:VEVENT
DTSTART;TZID=Europe/Brussels:20240626T180000
DTEND;TZID=Europe/Brussels:20240626T200000
DTSTAMP:20260419T193449
CREATED:20240610T124810Z
LAST-MODIFIED:20240610T124853Z
UID:10821-1719424800-1719432000@www.lebousvalien.be
SUMMARY:Concours de dessin
DESCRIPTION:Dans le cadre de la 52ème édition de l’exposition St Barthélemy\, un grand concours de dessin est organisé pour les enfants de Bousval jusque 12 ans. \n\n\n\nThème proposé : un coin de paradis dans mon village.                                                                                        \n\n\n\nLa technique est choisie librement. Le format attendu : entre A4 et A3. \n\n\n\nLe comité artistique sélectionnera les dessins qui seront exposés durant le WE de la St Barthélemy. \n\n\n\nDépôt des dessins et coordonnées : le 26 juin de 18h à 20h à la Salle Gossiaux
URL:https://www.lebousvalien.be/event/concours-de-dessin/
CATEGORIES:Arts plastiques
ATTACH;FMTTYPE=image/jpeg:https://www.lebousvalien.be/wp-content/uploads/2024/04/concours-de-dessin-1.jpg
END:VEVENT
END:VCALENDAR