BEGIN:VCALENDAR
VERSION:2.0
PRODID:-//Les Amis de Bousval - ECPv6.15.20//NONSGML v1.0//EN
CALSCALE:GREGORIAN
METHOD:PUBLISH
X-WR-CALNAME:Les Amis de Bousval
X-ORIGINAL-URL:https://www.lebousvalien.be
X-WR-CALDESC:Évènements pour Les Amis de Bousval
REFRESH-INTERVAL;VALUE=DURATION:PT1H
X-Robots-Tag:noindex
X-PUBLISHED-TTL:PT1H
BEGIN:VTIMEZONE
TZID:Europe/Brussels
BEGIN:DAYLIGHT
TZOFFSETFROM:+0100
TZOFFSETTO:+0200
TZNAME:CEST
DTSTART:20220327T010000
END:DAYLIGHT
BEGIN:STANDARD
TZOFFSETFROM:+0200
TZOFFSETTO:+0100
TZNAME:CET
DTSTART:20221030T010000
END:STANDARD
BEGIN:DAYLIGHT
TZOFFSETFROM:+0100
TZOFFSETTO:+0200
TZNAME:CEST
DTSTART:20230326T010000
END:DAYLIGHT
BEGIN:STANDARD
TZOFFSETFROM:+0200
TZOFFSETTO:+0100
TZNAME:CET
DTSTART:20231029T010000
END:STANDARD
BEGIN:DAYLIGHT
TZOFFSETFROM:+0100
TZOFFSETTO:+0200
TZNAME:CEST
DTSTART:20240331T010000
END:DAYLIGHT
BEGIN:STANDARD
TZOFFSETFROM:+0200
TZOFFSETTO:+0100
TZNAME:CET
DTSTART:20241027T010000
END:STANDARD
END:VTIMEZONE
BEGIN:VEVENT
DTSTART;TZID=Europe/Brussels:20230825T150000
DTEND;TZID=Europe/Brussels:20230825T210000
DTSTAMP:20260420T111927
CREATED:20230201T103211Z
LAST-MODIFIED:20230813T202714Z
UID:10002-1692975600-1692997200@www.lebousvalien.be
SUMMARY:51e exposition d'artistes - 2023
DESCRIPTION:Après le succès retentissant de la 50e exposition (nouvelle présentation\, nouveau thème\, affluence toujours en augmentation)\, la barre est haute et nous sommes prêts à relever le défi : les invitations ont été envoyées aux artistes\, avec le souhait d’accueillir aussi de nouvelles recrues de diverses disciplines : peinture\, sculpture\, photographie\, land art aussi ; cette dernière catégorie a été testée pour la première fois en 2022\, le long du RAVeL : très appréciée\, elle bénéficiera de l’expérience pour s’améliorer (encadrement\, nombre d’artistes). \n\n\n\nNous avons pris la bonne habitude d’accueillir un invité d’honneur. \n\n\n\nRappelons-nous Agathe Deroeck\, sculptrice\, David Evrard\, dessinateur BD\, et Michel d’Oultremont\, photographe. \n\n\n\nCette année\, ce sera Jean-Luc Dossche\, aquarelliste connu bien au-delà de nos frontières ; nous aurons le plaisir de vous le présenter dans un prochain Bousvalien. Des projets sont à l’étude : rétrospective Bernard Borremans\, peintre habitué de nos expositions et qui nous a malheureusement quittés en septembre 2022 ; exposition des œuvres premiers et deuxièmes prix des expositions depuis la création des AdB ; exposition de cartes postales anciennes de la collection de Robert Martin ; etc. \n\n\n\n \n\n\n\n\nEt cette année\, l’exposition d’artistes acceuillera également un « Coin des bouquins » dès vendredi et jusque dimanche. Venez rencontrer l’un ou l’autre auteur. (Attention\, tous ne seron pas présents duranttout le week-end\, vérifiez bien leurs heures de présence…) \n\n\n\n\n\n\n\nL’organisation de l’exposition repose sur un comité artistique très actif qui évolue au fil du temps. \n\n\n\nBrigitte Lainé le quitte après une collaboration fructueuse dont nous la remercions. Josée Balon et Francis cèdent leur place au sein du comité tout en maintenant leur aide précieuse. La relève est prête : Laurence Falisse et Serge Bastin nous ont fait le plaisir de nous rejoindre.
URL:https://www.lebousvalien.be/event/51e-exposition-dartistes-2023/
LOCATION:Salle omnisports Georges Gossiaux\, Avenue des Combattants 94\, Bousval\, 1470\, Belgique
CATEGORIES:Arts plastiques,Exposition
ORGANIZER;CN="Les Amis de Bousval asbl":MAILTO:adbousval@gmail.com
END:VEVENT
BEGIN:VEVENT
DTSTART;TZID=Europe/Brussels:20230826T100000
DTEND;TZID=Europe/Brussels:20230826T180000
DTSTAMP:20260420T111927
CREATED:20230813T205608Z
LAST-MODIFIED:20230813T210248Z
UID:10215-1693044000-1693072800@www.lebousvalien.be
SUMMARY:51e exposition d'artistes
DESCRIPTION:L’exposition d’oeuvres se poursuit….
URL:https://www.lebousvalien.be/event/51eme-expo-dartistes/
LOCATION:Salle omnisports Georges Gossiaux\, Avenue des Combattants 94\, Bousval\, 1470\, Belgique
CATEGORIES:Arts plastiques,Exposition
ORGANIZER;CN="Comit%C3%A9 artistique des Amis de Bousval":MAILTO:com.art.bousval@gmail.com
END:VEVENT
BEGIN:VEVENT
DTSTART;TZID=Europe/Brussels:20230827T100000
DTEND;TZID=Europe/Brussels:20230827T160000
DTSTAMP:20260420T111927
CREATED:20230813T210826Z
LAST-MODIFIED:20230813T210827Z
UID:10220-1693130400-1693152000@www.lebousvalien.be
SUMMARY:51e exposition d'artistes - 2023
DESCRIPTION:Dernier jour pour venir voir l’exposition….Dépêchez-vous !
URL:https://www.lebousvalien.be/event/51e-exposition-dartistes-2023-2/
LOCATION:Salle omnisports Georges Gossiaux\, Avenue des Combattants 94\, Bousval\, 1470\, Belgique
CATEGORIES:Arts plastiques,Exposition
ORGANIZER;CN="Comit%C3%A9 artistique des Amis de Bousval":MAILTO:com.art.bousval@gmail.com
END:VEVENT
END:VCALENDAR