BEGIN:VCALENDAR
VERSION:2.0
PRODID:-//Les Amis de Bousval - ECPv6.15.20//NONSGML v1.0//EN
CALSCALE:GREGORIAN
METHOD:PUBLISH
X-WR-CALNAME:Les Amis de Bousval
X-ORIGINAL-URL:https://www.lebousvalien.be
X-WR-CALDESC:Évènements pour Les Amis de Bousval
REFRESH-INTERVAL;VALUE=DURATION:PT1H
X-Robots-Tag:noindex
X-PUBLISHED-TTL:PT1H
BEGIN:VTIMEZONE
TZID:Europe/Brussels
BEGIN:DAYLIGHT
TZOFFSETFROM:+0100
TZOFFSETTO:+0200
TZNAME:CEST
DTSTART:20210328T010000
END:DAYLIGHT
BEGIN:STANDARD
TZOFFSETFROM:+0200
TZOFFSETTO:+0100
TZNAME:CET
DTSTART:20211031T010000
END:STANDARD
BEGIN:DAYLIGHT
TZOFFSETFROM:+0100
TZOFFSETTO:+0200
TZNAME:CEST
DTSTART:20220327T010000
END:DAYLIGHT
BEGIN:STANDARD
TZOFFSETFROM:+0200
TZOFFSETTO:+0100
TZNAME:CET
DTSTART:20221030T010000
END:STANDARD
BEGIN:DAYLIGHT
TZOFFSETFROM:+0100
TZOFFSETTO:+0200
TZNAME:CEST
DTSTART:20230326T010000
END:DAYLIGHT
BEGIN:STANDARD
TZOFFSETFROM:+0200
TZOFFSETTO:+0100
TZNAME:CET
DTSTART:20231029T010000
END:STANDARD
END:VTIMEZONE
BEGIN:VEVENT
DTSTART;TZID=Europe/Brussels:20220604T100000
DTEND;TZID=Europe/Brussels:20220604T160000
DTSTAMP:20260421T105506
CREATED:20220504T150911Z
LAST-MODIFIED:20221020T145343Z
UID:7146-1654336800-1654358400@www.lebousvalien.be
SUMMARY:Journées "Églises ouvertes"
DESCRIPTION:(Re)découvrir l’église\, son riche patrimoine intérieur\, les 14 stations du chemin de croix et participer au concours en tentant d’identifier les chapelles du village. \n\n\n\nVisites vendredi et samedi de 10 h à 16 h\, dimanche de 11 h à 16 h (en dehors des offices). \n\n\n\nLire l’article annonçant l’événement.
URL:https://www.lebousvalien.be/event/journees-eglises-ouvertes-04-06-2022/
LOCATION:Eglise Saint-Barthélemy\, Place Communale\, 1470\, Belgique
CATEGORIES:50 ans,Arts plastiques,Exposition,Intérieur,Patrimoine,Religieux
END:VEVENT
END:VCALENDAR